BEGIN:VCALENDAR
VERSION:2.0
PRODID:-//The Redeemed Church  of God - ECPv6.15.13//NONSGML v1.0//EN
CALSCALE:GREGORIAN
METHOD:PUBLISH
X-ORIGINAL-URL:https://rccgfaithimpact.org
X-WR-CALDESC:Events for The Redeemed Church  of God
REFRESH-INTERVAL;VALUE=DURATION:PT1H
X-Robots-Tag:noindex
X-PUBLISHED-TTL:PT1H
BEGIN:VTIMEZONE
TZID:UTC
BEGIN:STANDARD
TZOFFSETFROM:+0000
TZOFFSETTO:+0000
TZNAME:UTC
DTSTART:20200101T000000
END:STANDARD
END:VTIMEZONE
BEGIN:VEVENT
DTSTART;VALUE=DATE:20210821
DTEND;VALUE=DATE:20210822
DTSTAMP:20260420T035507
CREATED:20210521T163152Z
LAST-MODIFIED:20210722T124857Z
UID:161-1629504000-1629590399@rccgfaithimpact.org
SUMMARY:Evangelism
DESCRIPTION:A SOUL PER MONTH & 3RD SATURDAY OF THE MONTH (FIC)
URL:https://rccgfaithimpact.org/event/evangelism/
LOCATION:Faith Impact Chapel\, 422-426 South 6th Street\, Newark\, NJ\, 07103\, United States
CATEGORIES:All events,Upcoming
ATTACH;FMTTYPE=image/jpeg:https://rccgfaithimpact.org/wp-content/uploads/2021/05/Screenshot_20210410-142959_Messages.jpg
ORGANIZER;CN="Pastor Samson & F.I.C. Committee":MAILTO:info@rccgfaithimpact.org
END:VEVENT
BEGIN:VEVENT
DTSTART;VALUE=DATE:20210220
DTEND;VALUE=DATE:20210221
DTSTAMP:20260420T035507
CREATED:20210522T222646Z
LAST-MODIFIED:20231009T145044Z
UID:175-1613779200-1613865599@rccgfaithimpact.org
SUMMARY:Couple Night-Seminar (Valentine)
DESCRIPTION:
URL:https://rccgfaithimpact.org/event/couple-night-seminar-valentine/
LOCATION:Faith Impact Chapel\, 422-426 South 6th Street\, Newark\, NJ\, 07103\, United States
CATEGORIES:All events,Upcoming
ATTACH;FMTTYPE=image/jpeg:https://rccgfaithimpact.org/wp-content/uploads/2021/07/EVA05242-min-scaled-e1696863114551.jpg
ORGANIZER;CN="Pastor Samson & F.I.C. Committee":MAILTO:info@rccgfaithimpact.org
END:VEVENT
END:VCALENDAR